Package: openCyto Version: 2.16.1 Command: /home/biocbuild/bbs-3.19-bioc/R/bin/R CMD check --install=check:openCyto.install-out.txt --library=/home/biocbuild/bbs-3.19-bioc/R/site-library --timings openCyto_2.16.1.tar.gz StartedAt: 2024-10-17 03:16:07 -0400 (Thu, 17 Oct 2024) EndedAt: 2024-10-17 03:21:02 -0400 (Thu, 17 Oct 2024) EllapsedTime: 294.6 seconds RetCode: 0 Status: WARNINGS CheckDir: openCyto.Rcheck Warnings: 4