Package: openCyto Version: 2.16.1 Command: rm -rf openCyto.buildbin-libdir && mkdir openCyto.buildbin-libdir && F:\biocbuild\bbs-3.19-bioc\R\bin\R.exe CMD INSTALL --build --library=openCyto.buildbin-libdir openCyto_2.16.1.tar.gz StartedAt: 2024-06-27 08:37:36 -0400 (Thu, 27 Jun 2024) EndedAt: 2024-06-27 08:38:30 -0400 (Thu, 27 Jun 2024) EllapsedTime: 54.0 seconds RetCode: 0 Status: OK PackageFile: openCyto_2.16.1.zip PackageFileSize: 1.948 MiB