Package: openCyto Version: 2.16.1 Command: chmod a+r openCyto -R && F:\biocbuild\bbs-3.19-bioc\R\bin\R.exe CMD build --keep-empty-dirs --no-resave-data openCyto StartedAt: 2024-06-26 20:39:51 -0400 (Wed, 26 Jun 2024) EndedAt: 2024-06-26 20:48:05 -0400 (Wed, 26 Jun 2024) EllapsedTime: 493.4 seconds RetCode: 0 Status: OK PackageFile: openCyto_2.16.1.tar.gz PackageFileSize: 1.052 MiB