Package: openCyto Version: 2.16.1 Command: F:\biocbuild\bbs-3.19-bioc\R\bin\R.exe CMD check --no-multiarch --install=check:openCyto.install-out.txt --library=F:\biocbuild\bbs-3.19-bioc\R\library --no-vignettes --timings openCyto_2.16.1.tar.gz StartedAt: 2024-06-27 04:24:22 -0400 (Thu, 27 Jun 2024) EndedAt: 2024-06-27 04:28:02 -0400 (Thu, 27 Jun 2024) EllapsedTime: 220.3 seconds RetCode: 0 Status: WARNINGS CheckDir: openCyto.Rcheck Warnings: 4