Package: openCyto Version: 2.16.1 Command: rm -rf openCyto.buildbin-libdir && mkdir openCyto.buildbin-libdir && E:\biocbuild\bbs-3.19-bioc\R\bin\R.exe CMD INSTALL --build --library=openCyto.buildbin-libdir openCyto_2.16.1.tar.gz StartedAt: 2024-10-17 08:17:41 -0400 (Thu, 17 Oct 2024) EndedAt: 2024-10-17 08:18:59 -0400 (Thu, 17 Oct 2024) EllapsedTime: 78.3 seconds RetCode: 0 Status: OK PackageFile: openCyto_2.16.1.zip PackageFileSize: 1.944 MiB