Package: openCyto Version: 2.16.1 Command: E:\biocbuild\bbs-3.19-bioc\R\bin\R.exe CMD check --no-multiarch --install=check:openCyto.install-out.txt --library=E:\biocbuild\bbs-3.19-bioc\R\library --no-vignettes --timings openCyto_2.16.1.tar.gz StartedAt: 2024-10-17 04:08:15 -0400 (Thu, 17 Oct 2024) EndedAt: 2024-10-17 04:11:33 -0400 (Thu, 17 Oct 2024) EllapsedTime: 197.8 seconds RetCode: 0 Status: WARNINGS CheckDir: openCyto.Rcheck Warnings: 4