Package: openPrimeR Version: 1.26.0 Command: /home/biocbuild/R/R-beta-2024-04-15_r86425/bin/R CMD INSTALL openPrimeR StartedAt: 2024-05-08 21:02:43 -0000 (Wed, 08 May 2024) EndedAt: 2024-05-08 21:03:22 -0000 (Wed, 08 May 2024) EllapsedTime: 38.5 seconds RetCode: 0 Status: OK