Package: openPrimeR Version: 1.26.0 Command: rm -rf openPrimeR.buildbin-libdir && mkdir openPrimeR.buildbin-libdir && E:\biocbuild\bbs-3.19-bioc\R\bin\R.exe CMD INSTALL --build --library=openPrimeR.buildbin-libdir openPrimeR_1.26.0.tar.gz StartedAt: 2024-10-17 08:17:49 -0400 (Thu, 17 Oct 2024) EndedAt: 2024-10-17 08:19:46 -0400 (Thu, 17 Oct 2024) EllapsedTime: 116.7 seconds RetCode: 0 Status: OK PackageFile: openPrimeR_1.26.0.zip PackageFileSize: 2.725 MiB