Package: oppti Version: 1.18.0 Command: /Library/Frameworks/R.framework/Resources/bin/R CMD check --install=check:oppti.install-out.txt --library=/Library/Frameworks/R.framework/Resources/library --no-vignettes --timings oppti_1.18.0.tar.gz StartedAt: 2024-10-18 06:37:05 -0400 (Fri, 18 Oct 2024) EndedAt: 2024-10-18 06:38:19 -0400 (Fri, 18 Oct 2024) EllapsedTime: 74.7 seconds RetCode: 0 Status: WARNINGS CheckDir: oppti.Rcheck Warnings: 1