Package: oppti Version: 1.18.0 Command: /Library/Frameworks/R.framework/Resources/bin/R CMD build --keep-empty-dirs --no-resave-data oppti StartedAt: 2024-06-10 02:01:10 -0400 (Mon, 10 Jun 2024) EndedAt: 2024-06-10 02:01:43 -0400 (Mon, 10 Jun 2024) EllapsedTime: 33.1 seconds RetCode: 0 Status: OK PackageFile: oppti_1.18.0.tar.gz PackageFileSize: 74.4 KiB