Package: oppti Version: 1.18.0 Command: /home/biocbuild/R/R-beta-2024-04-15_r86425/bin/R CMD check --install=check:oppti.install-out.txt --library=/home/biocbuild/R/R-beta-2024-04-15_r86425/site-library --no-vignettes --timings oppti_1.18.0.tar.gz StartedAt: 2024-05-09 10:16:19 -0000 (Thu, 09 May 2024) EndedAt: 2024-05-09 10:17:35 -0000 (Thu, 09 May 2024) EllapsedTime: 76.1 seconds RetCode: 0 Status: WARNINGS CheckDir: oppti.Rcheck Warnings: 1