Package: oppti Version: 1.18.0 Command: /Library/Frameworks/R.framework/Resources/bin/R CMD check --install=check:oppti.install-out.txt --library=/Library/Frameworks/R.framework/Resources/library --no-vignettes --timings oppti_1.18.0.tar.gz StartedAt: 2024-06-09 22:00:59 -0400 (Sun, 09 Jun 2024) EndedAt: 2024-06-09 22:02:11 -0400 (Sun, 09 Jun 2024) EllapsedTime: 71.5 seconds RetCode: 0 Status: WARNINGS CheckDir: oppti.Rcheck Warnings: 1