Package: oppti Version: 1.18.0 Command: chmod a+r oppti -R && E:\biocbuild\bbs-3.19-bioc\R\bin\R.exe CMD build --keep-empty-dirs --no-resave-data oppti StartedAt: 2024-10-16 20:49:38 -0400 (Wed, 16 Oct 2024) EndedAt: 2024-10-16 20:50:08 -0400 (Wed, 16 Oct 2024) EllapsedTime: 30.0 seconds RetCode: 0 Status: OK PackageFile: oppti_1.18.0.tar.gz PackageFileSize: 74.55 KiB