Package: optimalFlow Version: 1.16.0 Command: E:\biocbuild\bbs-3.19-bioc\R\bin\R.exe CMD INSTALL optimalFlow StartedAt: 2024-10-16 16:39:24 -0400 (Wed, 16 Oct 2024) EndedAt: 2024-10-16 16:39:51 -0400 (Wed, 16 Oct 2024) EllapsedTime: 27.0 seconds RetCode: 0 Status: OK