Package: orthos Version: 1.2.0 Command: /home/biocbuild/R/R-beta-2024-04-15_r86425/bin/R CMD build --keep-empty-dirs --no-resave-data orthos StartedAt: 2024-05-09 02:18:19 -0000 (Thu, 09 May 2024) EndedAt: 2024-05-09 02:58:20 -0000 (Thu, 09 May 2024) EllapsedTime: 2400.3 seconds RetCode: None Status: TIMEOUT PackageFile: None PackageFileSize: NA