Package: orthos Version: 1.2.0 Command: rm -rf orthos.buildbin-libdir && mkdir orthos.buildbin-libdir && E:\biocbuild\bbs-3.19-bioc\R\bin\R.exe CMD INSTALL --build --library=orthos.buildbin-libdir orthos_1.2.0.tar.gz StartedAt: 2024-10-17 08:18:34 -0400 (Thu, 17 Oct 2024) EndedAt: 2024-10-17 08:19:11 -0400 (Thu, 17 Oct 2024) EllapsedTime: 37.0 seconds RetCode: 0 Status: OK PackageFile: orthos_1.2.0.zip PackageFileSize: 2.007 MiB