Package: pageRank Version: 1.14.0 Command: /Library/Frameworks/R.framework/Resources/bin/R CMD check --install=check:pageRank.install-out.txt --library=/Library/Frameworks/R.framework/Resources/library --no-vignettes --timings pageRank_1.14.0.tar.gz StartedAt: 2024-06-11 00:46:05 -0400 (Tue, 11 Jun 2024) EndedAt: 2024-06-11 00:55:13 -0400 (Tue, 11 Jun 2024) EllapsedTime: 548.5 seconds RetCode: 0 Status: OK CheckDir: pageRank.Rcheck Warnings: 0