Package: pageRank Version: 1.14.0 Command: /Library/Frameworks/R.framework/Resources/bin/R CMD INSTALL pageRank StartedAt: 2024-06-09 15:57:59 -0400 (Sun, 09 Jun 2024) EndedAt: 2024-06-09 15:59:04 -0400 (Sun, 09 Jun 2024) EllapsedTime: 64.9 seconds RetCode: 0 Status: OK