Package: pageRank Version: 1.14.0 Command: rm -rf pageRank.buildbin-libdir && mkdir pageRank.buildbin-libdir && E:\biocbuild\bbs-3.19-bioc\R\bin\R.exe CMD INSTALL --build --library=pageRank.buildbin-libdir pageRank_1.14.0.tar.gz StartedAt: 2024-10-17 08:18:59 -0400 (Thu, 17 Oct 2024) EndedAt: 2024-10-17 08:19:56 -0400 (Thu, 17 Oct 2024) EllapsedTime: 57.1 seconds RetCode: 0 Status: OK PackageFile: pageRank_1.14.0.zip PackageFileSize: 179.3 KiB