Package: pairkat Version: 1.10.0 Command: rm -rf pairkat.buildbin-libdir && mkdir pairkat.buildbin-libdir && /Users/biocbuild/BBS/utils/build-universal.sh pairkat_1.10.0.tar.gz /Library/Frameworks/R.framework/Resources/bin/R pairkat.buildbin-libdir StartedAt: 2024-10-18 19:53:25 -0400 (Fri, 18 Oct 2024) EndedAt: 2024-10-18 19:53:59 -0400 (Fri, 18 Oct 2024) EllapsedTime: 33.8 seconds RetCode: 0 Status: OK PackageFile: pairkat_1.10.0.tgz PackageFileSize: 855.6 KiB