Package: pairkat Version: 1.10.0 Command: /Library/Frameworks/R.framework/Resources/bin/R CMD build --keep-empty-dirs --no-resave-data pairkat StartedAt: 2024-06-10 02:14:23 -0400 (Mon, 10 Jun 2024) EndedAt: 2024-06-10 02:18:39 -0400 (Mon, 10 Jun 2024) EllapsedTime: 255.9 seconds RetCode: 0 Status: OK PackageFile: pairkat_1.10.0.tar.gz PackageFileSize: 825.9 KiB