Package: pandaR Version: 1.36.0 Command: /Library/Frameworks/R.framework/Resources/bin/R CMD check --install=check:pandaR.install-out.txt --library=/Library/Frameworks/R.framework/Resources/library --no-vignettes --timings pandaR_1.36.0.tar.gz StartedAt: 2024-10-18 06:57:53 -0400 (Fri, 18 Oct 2024) EndedAt: 2024-10-18 06:59:13 -0400 (Fri, 18 Oct 2024) EllapsedTime: 80.1 seconds RetCode: 0 Status: WARNINGS CheckDir: pandaR.Rcheck Warnings: 2