Package: pandaR Version: 1.36.0 Command: /Library/Frameworks/R.framework/Resources/bin/R CMD INSTALL pandaR StartedAt: 2024-10-16 16:03:18 -0400 (Wed, 16 Oct 2024) EndedAt: 2024-10-16 16:03:28 -0400 (Wed, 16 Oct 2024) EllapsedTime: 10.4 seconds RetCode: 0 Status: OK