Package: pandaR Version: 1.36.0 Command: /home/biocbuild/R/R-beta-2024-04-15_r86425/bin/R CMD INSTALL pandaR StartedAt: 2024-05-08 20:10:20 -0000 (Wed, 08 May 2024) EndedAt: 2024-05-08 20:10:38 -0000 (Wed, 08 May 2024) EllapsedTime: 18.0 seconds RetCode: 0 Status: OK