Package: pandaR Version: 1.36.0 Command: rm -rf pandaR.buildbin-libdir && mkdir pandaR.buildbin-libdir && /Users/biocbuild/BBS/utils/build-universal.sh pandaR_1.36.0.tar.gz /Library/Frameworks/R.framework/Resources/bin/R pandaR.buildbin-libdir StartedAt: 2024-06-10 00:31:22 -0400 (Mon, 10 Jun 2024) EndedAt: 2024-06-10 00:31:35 -0400 (Mon, 10 Jun 2024) EllapsedTime: 13.4 seconds RetCode: 0 Status: OK PackageFile: pandaR_1.36.0.tgz PackageFileSize: 9.085 MiB