Package: pandaR Version: 1.36.0 Command: rm -rf pandaR.buildbin-libdir && mkdir pandaR.buildbin-libdir && /Users/biocbuild/BBS/utils/build-universal.sh pandaR_1.36.0.tar.gz /Library/Frameworks/R.framework/Resources/bin/R pandaR.buildbin-libdir StartedAt: 2024-10-17 16:48:17 -0400 (Thu, 17 Oct 2024) EndedAt: 2024-10-17 16:48:41 -0400 (Thu, 17 Oct 2024) EllapsedTime: 24.2 seconds RetCode: 0 Status: OK PackageFile: pandaR_1.36.0.tgz PackageFileSize: 9.085 MiB