Package: pandaR Version: 1.36.0 Command: /Library/Frameworks/R.framework/Resources/bin/R CMD build --keep-empty-dirs --no-resave-data pandaR StartedAt: 2024-10-16 21:52:56 -0400 (Wed, 16 Oct 2024) EndedAt: 2024-10-16 21:54:13 -0400 (Wed, 16 Oct 2024) EllapsedTime: 76.3 seconds RetCode: 0 Status: OK PackageFile: pandaR_1.36.0.tar.gz PackageFileSize: 8.683 MiB