Package: pandaR Version: 1.36.0 Command: /home/biocbuild/bbs-3.19-bioc/R/bin/R CMD build --keep-empty-dirs --no-resave-data pandaR StartedAt: 2024-10-16 20:01:58 -0400 (Wed, 16 Oct 2024) EndedAt: 2024-10-16 20:02:59 -0400 (Wed, 16 Oct 2024) EllapsedTime: 61.2 seconds RetCode: 0 Status: OK PackageFile: pandaR_1.36.0.tar.gz PackageFileSize: 8.675 MiB