Package: pandaR Version: 1.36.0 Command: /home/biocbuild/bbs-3.19-bioc/R/bin/R CMD check --install=check:pandaR.install-out.txt --library=/home/biocbuild/bbs-3.19-bioc/R/site-library --timings pandaR_1.36.0.tar.gz StartedAt: 2024-10-17 03:34:11 -0400 (Thu, 17 Oct 2024) EndedAt: 2024-10-17 03:36:37 -0400 (Thu, 17 Oct 2024) EllapsedTime: 146.3 seconds RetCode: 0 Status: WARNINGS CheckDir: pandaR.Rcheck Warnings: 2