Package: pandaR Version: 1.36.0 Command: chmod a+r pandaR -R && E:\biocbuild\bbs-3.19-bioc\R\bin\R.exe CMD build --keep-empty-dirs --no-resave-data pandaR StartedAt: 2024-10-16 20:55:27 -0400 (Wed, 16 Oct 2024) EndedAt: 2024-10-16 20:56:22 -0400 (Wed, 16 Oct 2024) EllapsedTime: 55.3 seconds RetCode: 0 Status: OK PackageFile: pandaR_1.36.0.tar.gz PackageFileSize: 8.658 MiB