Package: pareg Version: 1.8.0 Command: rm -rf pareg.buildbin-libdir && mkdir pareg.buildbin-libdir && /Users/biocbuild/BBS/utils/build-universal.sh pareg_1.8.0.tar.gz /Library/Frameworks/R.framework/Resources/bin/R pareg.buildbin-libdir StartedAt: 2024-10-18 19:53:54 -0400 (Fri, 18 Oct 2024) EndedAt: 2024-10-18 19:54:27 -0400 (Fri, 18 Oct 2024) EllapsedTime: 33.0 seconds RetCode: 0 Status: OK PackageFile: pareg_1.8.0.tgz PackageFileSize: 3.128 MiB