Package: pareg Version: 1.8.0 Command: /Library/Frameworks/R.framework/Resources/bin/R CMD build --keep-empty-dirs --no-resave-data pareg StartedAt: 2024-10-17 06:11:00 -0400 (Thu, 17 Oct 2024) EndedAt: 2024-10-17 06:13:32 -0400 (Thu, 17 Oct 2024) EllapsedTime: 152.6 seconds RetCode: 0 Status: OK PackageFile: pareg_1.8.0.tar.gz PackageFileSize: 3.031 MiB