Package: pareg Version: 1.8.0 Command: rm -rf pareg.buildbin-libdir && mkdir pareg.buildbin-libdir && /Users/biocbuild/BBS/utils/build-universal.sh pareg_1.8.0.tar.gz /Library/Frameworks/R.framework/Resources/bin/R pareg.buildbin-libdir StartedAt: 2024-06-11 12:28:06 -0400 (Tue, 11 Jun 2024) EndedAt: 2024-06-11 12:28:52 -0400 (Tue, 11 Jun 2024) EllapsedTime: 46.4 seconds RetCode: 0 Status: OK PackageFile: pareg_1.8.0.tgz PackageFileSize: 3.128 MiB