Package: pareg Version: 1.8.0 Command: /Library/Frameworks/R.framework/Resources/bin/R CMD check --install=check:pareg.install-out.txt --library=/Library/Frameworks/R.framework/Resources/library --no-vignettes --timings pareg_1.8.0.tar.gz StartedAt: 2024-06-11 00:51:58 -0400 (Tue, 11 Jun 2024) EndedAt: 2024-06-11 00:57:26 -0400 (Tue, 11 Jun 2024) EllapsedTime: 327.7 seconds RetCode: 0 Status: OK CheckDir: pareg.Rcheck Warnings: 0