Package: pareg Version: 1.8.0 Command: /Library/Frameworks/R.framework/Resources/bin/R CMD INSTALL pareg StartedAt: 2024-06-09 16:50:27 -0400 (Sun, 09 Jun 2024) EndedAt: 2024-06-09 16:51:03 -0400 (Sun, 09 Jun 2024) EllapsedTime: 35.8 seconds RetCode: 0 Status: OK