Package: pareg Version: 1.8.0 Command: /Library/Frameworks/R.framework/Resources/bin/R CMD build --keep-empty-dirs --no-resave-data pareg StartedAt: 2024-10-16 21:54:48 -0400 (Wed, 16 Oct 2024) EndedAt: 2024-10-16 22:02:49 -0400 (Wed, 16 Oct 2024) EllapsedTime: 481.8 seconds RetCode: 0 Status: OK PackageFile: pareg_1.8.0.tar.gz PackageFileSize: 3.031 MiB