Package: pareg Version: 1.8.0 Command: /Library/Frameworks/R.framework/Resources/bin/R CMD INSTALL pareg StartedAt: 2024-10-16 16:17:02 -0400 (Wed, 16 Oct 2024) EndedAt: 2024-10-16 16:17:49 -0400 (Wed, 16 Oct 2024) EllapsedTime: 47.3 seconds RetCode: 0 Status: OK