Package: pareg Version: 1.8.0 Command: /home/biocbuild/bbs-3.19-bioc/R/bin/R CMD INSTALL pareg StartedAt: 2024-10-16 16:28:37 -0400 (Wed, 16 Oct 2024) EndedAt: 2024-10-16 16:28:56 -0400 (Wed, 16 Oct 2024) EllapsedTime: 18.4 seconds RetCode: 0 Status: OK