Package: pareg Version: 1.8.0 Command: chmod a+r pareg -R && F:\biocbuild\bbs-3.19-bioc\R\bin\R.exe --arch x64 CMD build --keep-empty-dirs --no-resave-data pareg StartedAt: 2024-06-26 20:51:41 -0400 (Wed, 26 Jun 2024) EndedAt: 2024-06-26 20:58:14 -0400 (Wed, 26 Jun 2024) EllapsedTime: 392.4 seconds RetCode: 0 Status: OK PackageFile: pareg_1.8.0.tar.gz PackageFileSize: 2.587 MiB