Package: pareg Version: 1.8.0 Command: rm -rf pareg.buildbin-libdir && mkdir pareg.buildbin-libdir && E:\biocbuild\bbs-3.19-bioc\R\bin\R.exe CMD INSTALL --build --library=pareg.buildbin-libdir pareg_1.8.0.tar.gz StartedAt: 2024-10-17 08:19:24 -0400 (Thu, 17 Oct 2024) EndedAt: 2024-10-17 08:20:21 -0400 (Thu, 17 Oct 2024) EllapsedTime: 57.4 seconds RetCode: 0 Status: OK PackageFile: pareg_1.8.0.zip PackageFileSize: 2.726 MiB