Package: partCNV Version: 1.2.0 Command: rm -rf partCNV.buildbin-libdir && mkdir partCNV.buildbin-libdir && /Users/biocbuild/BBS/utils/build-universal.sh partCNV_1.2.0.tar.gz /Library/Frameworks/R.framework/Resources/bin/R partCNV.buildbin-libdir StartedAt: 2024-06-18 16:44:50 -0400 (Tue, 18 Jun 2024) EndedAt: 2024-06-18 16:45:44 -0400 (Tue, 18 Jun 2024) EllapsedTime: 54.4 seconds RetCode: 0 Status: OK PackageFile: partCNV_1.2.0.tgz PackageFileSize: 4.663 MiB