Package: partCNV Version: 1.2.0 Command: /home/biocbuild/R/R-beta-2024-04-15_r86425/bin/R CMD build --keep-empty-dirs --no-resave-data partCNV StartedAt: 2024-05-09 02:23:46 -0000 (Thu, 09 May 2024) EndedAt: 2024-05-09 02:25:56 -0000 (Thu, 09 May 2024) EllapsedTime: 130.2 seconds RetCode: 0 Status: OK PackageFile: partCNV_1.2.0.tar.gz PackageFileSize: 4.555 MiB