Package: pathRender Version: 1.72.0 Command: /Library/Frameworks/R.framework/Resources/bin/R CMD build --keep-empty-dirs --no-resave-data pathRender StartedAt: 2024-10-17 06:12:56 -0400 (Thu, 17 Oct 2024) EndedAt: 2024-10-17 06:13:36 -0400 (Thu, 17 Oct 2024) EllapsedTime: 39.7 seconds RetCode: 0 Status: OK PackageFile: pathRender_1.72.0.tar.gz PackageFileSize: 301.1 KiB