Package: pathRender Version: 1.72.0 Command: /Library/Frameworks/R.framework/Resources/bin/R CMD INSTALL pathRender StartedAt: 2024-10-16 15:26:49 -0400 (Wed, 16 Oct 2024) EndedAt: 2024-10-16 15:27:19 -0400 (Wed, 16 Oct 2024) EllapsedTime: 29.5 seconds RetCode: 0 Status: OK