Package: pathRender Version: 1.72.0 Command: /home/biocbuild/bbs-3.19-bioc/R/bin/R CMD build --keep-empty-dirs --no-resave-data pathRender StartedAt: 2024-10-16 20:04:10 -0400 (Wed, 16 Oct 2024) EndedAt: 2024-10-16 20:04:36 -0400 (Wed, 16 Oct 2024) EllapsedTime: 26.0 seconds RetCode: 0 Status: OK PackageFile: pathRender_1.72.0.tar.gz PackageFileSize: 147 KiB