Package: pathRender Version: 1.72.0 Command: rm -rf pathRender.buildbin-libdir && mkdir pathRender.buildbin-libdir && F:\biocbuild\bbs-3.19-bioc\R\bin\R.exe CMD INSTALL --build --library=pathRender.buildbin-libdir pathRender_1.72.0.tar.gz StartedAt: 2024-06-27 08:39:18 -0400 (Thu, 27 Jun 2024) EndedAt: 2024-06-27 08:39:41 -0400 (Thu, 27 Jun 2024) EllapsedTime: 23.3 seconds RetCode: 0 Status: OK PackageFile: pathRender_1.72.0.zip PackageFileSize: 206.9 KiB