Package: pathRender Version: 1.72.0 Command: rm -rf pathRender.buildbin-libdir && mkdir pathRender.buildbin-libdir && E:\biocbuild\bbs-3.19-bioc\R\bin\R.exe CMD INSTALL --build --library=pathRender.buildbin-libdir pathRender_1.72.0.tar.gz StartedAt: 2024-10-17 08:19:43 -0400 (Thu, 17 Oct 2024) EndedAt: 2024-10-17 08:20:10 -0400 (Thu, 17 Oct 2024) EllapsedTime: 27.6 seconds RetCode: 0 Status: OK PackageFile: pathRender_1.72.0.zip PackageFileSize: 208.6 KiB