Package: pathRender Version: 1.72.0 Command: chmod a+r pathRender -R && E:\biocbuild\bbs-3.19-bioc\R\bin\R.exe CMD build --keep-empty-dirs --no-resave-data pathRender StartedAt: 2024-10-16 20:58:03 -0400 (Wed, 16 Oct 2024) EndedAt: 2024-10-16 20:58:36 -0400 (Wed, 16 Oct 2024) EllapsedTime: 33.2 seconds RetCode: 0 Status: OK PackageFile: pathRender_1.72.0.tar.gz PackageFileSize: 149.7 KiB