Package: pathifier Version: 1.42.0 Command: /Library/Frameworks/R.framework/Resources/bin/R CMD build --keep-empty-dirs --no-resave-data pathifier StartedAt: 2024-10-17 06:11:26 -0400 (Thu, 17 Oct 2024) EndedAt: 2024-10-17 06:11:49 -0400 (Thu, 17 Oct 2024) EllapsedTime: 22.5 seconds RetCode: 0 Status: OK PackageFile: pathifier_1.42.0.tar.gz PackageFileSize: 2.033 MiB