Package: pathifier Version: 1.42.0 Command: /home/biocbuild/R/R-beta-2024-04-15_r86425/bin/R CMD INSTALL pathifier StartedAt: 2024-05-08 20:06:14 -0000 (Wed, 08 May 2024) EndedAt: 2024-05-08 20:06:40 -0000 (Wed, 08 May 2024) EllapsedTime: 25.9 seconds RetCode: 0 Status: OK